BEGIN:VCALENDAR
VERSION:2.0
PRODID:-//http://www.yusmahoney.com/ymr//NONSGML kigkonsult.se iCalcreator 
 2.14//
METHOD:PUBLISH
X-WR-CALNAME:JCal Pro Calendar
X-WR-CALDESC:Your online events calendar
X-WR-TIMEZONE:Asia/Kuala_Lumpur
BEGIN:VEVENT
UID:20180113T000000UTC-64b589@http://www.yusmahoney.com/ymr/
DTSTAMP:20260424T101149Z
DESCRIPTION:<p>Seminar Usahawan Sukses di Kuala Kangsar. Orang ramai dijemp
 ut hadir untuk bersama dengan kami disana. Perkongsian ilmu oleh Master Mu
 s. </p>
DTSTART;TZID=Asia/Kuala_Lumpur:20180113T080000
DTEND;TZID=Asia/Kuala_Lumpur:20180113T090000
SUMMARY:S.U.S 
END:VEVENT
END:VCALENDAR
