BEGIN:VCALENDAR
VERSION:2.0
PRODID:-//http://www.yusmahoney.com/ymr//NONSGML kigkonsult.se iCalcreator 
 2.14//
METHOD:PUBLISH
X-WR-CALNAME:JCal Pro Calendar
X-WR-CALDESC:Your online events calendar
X-WR-TIMEZONE:Asia/Kuala_Lumpur
BEGIN:VEVENT
UID:20171217T000000UTC-3d186e@http://www.yusmahoney.com/ymr/
DTSTAMP:20260424T115310Z
DESCRIPTION:<p><strong>Program Gempur Usahawan Zon Utara</strong><span>\, d
 isekitar Parit Buntar\, Batu Kurau dan Taiping bersama AJAF serta Ustaz Ra
 bbani. </span></p>\n<p><span>Ahli-ahli YMR International dijemput sama-sam
 a untuk menyertai. </span></p>
DTSTART;TZID=Asia/Kuala_Lumpur:20171217T080000
DTEND;TZID=Asia/Kuala_Lumpur:20171217T090000
SUMMARY:PROGRAM GEMPUR USAHAWAN ZON UTARA 2
END:VEVENT
END:VCALENDAR
