BEGIN:VCALENDAR
VERSION:2.0
PRODID:-//http://www.yusmahoney.com/ymr//NONSGML kigkonsult.se iCalcreator 
 2.14//
METHOD:PUBLISH
X-WR-CALNAME:JCal Pro Calendar
X-WR-CALDESC:Your online events calendar
X-WR-TIMEZONE:Asia/Kuala_Lumpur
BEGIN:VEVENT
UID:20171216T000000UTC-7b4991@http://www.yusmahoney.com/ymr/
DTSTAMP:20260424T120220Z
DESCRIPTION:<p><strong>Seminar Usahawan Sukses </strong>di <span style='fon
 t-size: 12.16px\;'>Dewan Arrabbani Restoran </span><span style='font-size:
  12.16px\;'>Arrabbani sebelah IKM Sg Petani\,</span><span style='font-size
 : 12.16px\;'>Taman Peruda Sg Petani pada 16 September 2017.</span></p>
DTSTART;TZID=Asia/Kuala_Lumpur:20171216T080000
DTEND;TZID=Asia/Kuala_Lumpur:20171216T090000
SUMMARY:Seminar Usahawan Sukses
END:VEVENT
END:VCALENDAR
